BEGIN:VCALENDAR
VERSION:2.0
PRODID:-//wp-events-plugin.com//7.2.3.1//EN
TZID:Europe/Zurich
X-WR-TIMEZONE:Europe/Zurich
BEGIN:VEVENT
UID:42@saat-network.ch
DTSTART;TZID=Europe/Zurich:20180329T160000
DTEND;TZID=Europe/Zurich:20180329T173000
DTSTAMP:20180323T022830Z
URL:https://saat-network.ch/events/achieving-performance-agile-english-sv-
 apa-033009/
SUMMARY:Achieving Performance through Agile (English) [SV-APA-032916]
DESCRIPTION:
CATEGORIES:Achieving Performance Through Agile
END:VEVENT
BEGIN:VTIMEZONE
TZID:Europe/Zurich
X-LIC-LOCATION:Europe/Zurich
BEGIN:DAYLIGHT
DTSTART:20180325T030000
TZOFFSETFROM:+0100
TZOFFSETTO:+0200
TZNAME:CEST
END:DAYLIGHT
END:VTIMEZONE
END:VCALENDAR